BEGIN:VCALENDAR
VERSION:2.0
PRODID:-//hacksw/handcal//NONSGML v1.0//EN
CALSCALE:GREGORIAN
BEGIN:VEVENT
DESCRIPTION:Blokhuttendag
SUMMARY:Blokhuttendag
DTSTART:20210916T084600Z
DTSTAMP:20260420T081922Z
UID:69e5e18a047de
END:VEVENT
END:VCALENDAR